BEGIN:VCALENDAR
VERSION:2.0
PRODID:-//https://calenda-formation.labocleo.org
X-WR-CALNAME:Calenda
X-WR-TIMEZONE:Europe/Paris
CALSCALE:GREGORIAN
X-WR-CALDESC:O calendário de letras e de ciências sociais e humanas
METHOD:PUBLISH
BEGIN:VEVENT
DTSTART;VALUE=DATE:20130604
DTEND;VALUE=DATE:20130605
UID:250440-20130604@calenda.revues.org
SUMMARY:Les experts 
URL:https://calenda-formation.labocleo.org/250440
DESCRIPTION:La figure de l’expert\, appelé à témoigner devant les tribunaux dans le champ de compétence qui est reconnu comme le sien\, prend dans nos sociétés contemporaines un relief inédit. Le champ de l’expertise\, pour s’en tenir au strict domaine judiciaire\, … @plus_info https://calenda-formation.labocleo.org/250440
LOCATION:Paris
END:VEVENT
END:VCALENDAR
