BEGIN:VCALENDAR
VERSION:2.0
PRODID:-//https://calenda-formation.labocleo.org
X-WR-CALNAME:Calenda
X-WR-TIMEZONE:Europe/Paris
CALSCALE:GREGORIAN
X-WR-CALDESC:Le calendrier des lettres et sciences humaines et sociales
METHOD:PUBLISH
BEGIN:VEVENT
DTSTART;VALUE=DATE:20130607
DTEND;VALUE=DATE:20130608
UID:250548-20130607@calenda.revues.org
SUMMARY:Quarante ans de théorie de la justice : de la théorie à la pratique ?
URL:https://calenda-formation.labocleo.org/250548
DESCRIPTION:Colloque international organisé par le CESPRA et l’University of California at Berkeley EHESS. … @plus_info https://calenda-formation.labocleo.org/250548
LOCATION:Paris
END:VEVENT
END:VCALENDAR
