BEGIN:VCALENDAR
VERSION:2.0
PRODID:-//https://calenda-formation.labocleo.org
X-WR-CALNAME:Calenda
X-WR-TIMEZONE:Europe/Paris
CALSCALE:GREGORIAN
X-WR-CALDESC:O calendário de letras e de ciências sociais e humanas
METHOD:PUBLISH
BEGIN:VEVENT
DTSTART;VALUE=DATE:20130620
DTEND;VALUE=DATE:20130621
UID:250610-20130620@calenda.revues.org
SUMMARY:1972-2012. Retour sur quarante ans de Front national 
URL:https://calenda-formation.labocleo.org/250610
DESCRIPTION:Le 5 octobre 2012\, le Front national a eu quarante ans. Quarante ans que ce parti interagit dans le champ politique français ; trente ans qu’il focalise l’attention médiatique ; et presqu’autant d’années que les observateurs tentent d’en saisir la ré… @plus_info https://calenda-formation.labocleo.org/250610
LOCATION:Nanterre
END:VEVENT
BEGIN:VEVENT
DTSTART;VALUE=DATE:20130621
DTEND;VALUE=DATE:20130622
UID:250610-20130621@calenda.revues.org
SUMMARY:1972-2012. Retour sur quarante ans de Front national 
URL:https://calenda-formation.labocleo.org/250610
DESCRIPTION:Le 5 octobre 2012\, le Front national a eu quarante ans. Quarante ans que ce parti interagit dans le champ politique français ; trente ans qu’il focalise l’attention médiatique ; et presqu’autant d’années que les observateurs tentent d’en saisir la ré… @plus_info https://calenda-formation.labocleo.org/250610
LOCATION:Nanterre
END:VEVENT
END:VCALENDAR
