BEGIN:VCALENDAR
VERSION:2.0
PRODID:-//https://calenda-formation.labocleo.org
X-WR-CALNAME:Calenda
X-WR-TIMEZONE:Europe/Paris
CALSCALE:GREGORIAN
X-WR-CALDESC:The calendar for arts, humanities and social sciences
METHOD:PUBLISH
BEGIN:VEVENT
DTSTART;VALUE=DATE:20130630
DTEND;VALUE=DATE:20130701
UID:250628-20130630@calenda.revues.org
SUMMARY:Artist-run spaces: new forms of artistic production?
URL:https://calenda-formation.labocleo.org/250628
DESCRIPTION:ESAD Reims’ new research programme “Artist-run spaces: new forms of artistic production?” will be the focus of the 4th International Encounters of Art and Design\, which will be held in Reims on 24 October 2013. Artists’ collectives such as the artist… @plus_info https://calenda-formation.labocleo.org/250628
LOCATION:Reims
END:VEVENT
END:VCALENDAR
