BEGIN:VCALENDAR
VERSION:2.0
PRODID:-//https://calenda-formation.labocleo.org
X-WR-CALNAME:Calenda
X-WR-TIMEZONE:Europe/Paris
CALSCALE:GREGORIAN
X-WR-CALDESC:The calendar for arts, humanities and social sciences
METHOD:PUBLISH
BEGIN:VEVENT
DTSTART;VALUE=DATE:20130603
DTEND;VALUE=DATE:20130604
UID:250659-20130603@calenda.revues.org
SUMMARY:Intensive philosophy seminar devoted to sustainable development
URL:https://calenda-formation.labocleo.org/250659
DESCRIPTION:Le « développement durable » suscite l’espérance d’une solidarité planétaire possible\, dont la finalité est de transmettre un monde humainement habitable à ceux qui viendront après nous. Mais tant qu’il reste moralement abstrait\, cet idéal donne nais… @plus_info https://calenda-formation.labocleo.org/250659
LOCATION:Créteil
END:VEVENT
BEGIN:VEVENT
DTSTART;VALUE=DATE:20130605
DTEND;VALUE=DATE:20130606
UID:250659-20130605@calenda.revues.org
SUMMARY:Intensive philosophy seminar devoted to sustainable development
URL:https://calenda-formation.labocleo.org/250659
DESCRIPTION:Le « développement durable » suscite l’espérance d’une solidarité planétaire possible\, dont la finalité est de transmettre un monde humainement habitable à ceux qui viendront après nous. Mais tant qu’il reste moralement abstrait\, cet idéal donne nais… @plus_info https://calenda-formation.labocleo.org/250659
LOCATION:Créteil
END:VEVENT
BEGIN:VEVENT
DTSTART;VALUE=DATE:20130607
DTEND;VALUE=DATE:20130608
UID:250659-20130607@calenda.revues.org
SUMMARY:Intensive philosophy seminar devoted to sustainable development
URL:https://calenda-formation.labocleo.org/250659
DESCRIPTION:Le « développement durable » suscite l’espérance d’une solidarité planétaire possible\, dont la finalité est de transmettre un monde humainement habitable à ceux qui viendront après nous. Mais tant qu’il reste moralement abstrait\, cet idéal donne nais… @plus_info https://calenda-formation.labocleo.org/250659
LOCATION:Créteil
END:VEVENT
BEGIN:VEVENT
DTSTART;VALUE=DATE:20130610
DTEND;VALUE=DATE:20130611
UID:250659-20130610@calenda.revues.org
SUMMARY:Intensive philosophy seminar devoted to sustainable development
URL:https://calenda-formation.labocleo.org/250659
DESCRIPTION:Le « développement durable » suscite l’espérance d’une solidarité planétaire possible\, dont la finalité est de transmettre un monde humainement habitable à ceux qui viendront après nous. Mais tant qu’il reste moralement abstrait\, cet idéal donne nais… @plus_info https://calenda-formation.labocleo.org/250659
LOCATION:Créteil
END:VEVENT
BEGIN:VEVENT
DTSTART;VALUE=DATE:20130612
DTEND;VALUE=DATE:20130613
UID:250659-20130612@calenda.revues.org
SUMMARY:Intensive philosophy seminar devoted to sustainable development
URL:https://calenda-formation.labocleo.org/250659
DESCRIPTION:Le « développement durable » suscite l’espérance d’une solidarité planétaire possible\, dont la finalité est de transmettre un monde humainement habitable à ceux qui viendront après nous. Mais tant qu’il reste moralement abstrait\, cet idéal donne nais… @plus_info https://calenda-formation.labocleo.org/250659
LOCATION:Créteil
END:VEVENT
BEGIN:VEVENT
DTSTART;VALUE=DATE:20130614
DTEND;VALUE=DATE:20130615
UID:250659-20130614@calenda.revues.org
SUMMARY:Intensive philosophy seminar devoted to sustainable development
URL:https://calenda-formation.labocleo.org/250659
DESCRIPTION:Le « développement durable » suscite l’espérance d’une solidarité planétaire possible\, dont la finalité est de transmettre un monde humainement habitable à ceux qui viendront après nous. Mais tant qu’il reste moralement abstrait\, cet idéal donne nais… @plus_info https://calenda-formation.labocleo.org/250659
LOCATION:Créteil
END:VEVENT
END:VCALENDAR
