BEGIN:VCALENDAR
VERSION:2.0
PRODID:-//https://calenda-formation.labocleo.org
X-WR-CALNAME:Calenda
X-WR-TIMEZONE:Europe/Paris
CALSCALE:GREGORIAN
X-WR-CALDESC:Le calendrier des lettres et sciences humaines et sociales
METHOD:PUBLISH
BEGIN:VEVENT
DTSTART;VALUE=DATE:20130619
DTEND;VALUE=DATE:20130620
UID:250964-20130619@calenda.revues.org
SUMMARY:Séminaire de recherche sur l’éducation populaire - GRREP
URL:https://calenda-formation.labocleo.org/250964
DESCRIPTION:De nombreux « jeunes » chercheurs s’intéressent de manière assez nouvelle aux questions liées à l’éducation populaire. Pour l’essentiel\, les approches mobilisent des champs disciplinaires différents\, des thématiques diverses\, des sujets complémentair… Weitere Informationen https://calenda-formation.labocleo.org/250964
LOCATION:Paris
END:VEVENT
END:VCALENDAR
