BEGIN:VCALENDAR
VERSION:2.0
PRODID:-//https://calenda-formation.labocleo.org
X-WR-CALNAME:Calenda
X-WR-TIMEZONE:Europe/Paris
CALSCALE:GREGORIAN
X-WR-CALDESC:The calendar for arts, humanities and social sciences
METHOD:PUBLISH
BEGIN:VEVENT
DTSTART;VALUE=DATE:20130605
DTEND;VALUE=DATE:20130606
UID:251119-20130605@calenda.revues.org
SUMMARY:Boccaccio between Liber and libri\, the tensions of a writer between the Middle Ages and the Renaissance
URL:https://calenda-formation.labocleo.org/251119
DESCRIPTION:Le septième centenaire de la naissance de Boccace en 2013 est l’occasion de faire le point sur des aspects majeurs de la personnalité intellectuelle de l’écrivain et sur la place de ses œuvres dans la culture de son temps et des siècles qui suivirent… @plus_info https://calenda-formation.labocleo.org/251119
LOCATION:Tours\, Chinon
END:VEVENT
BEGIN:VEVENT
DTSTART;VALUE=DATE:20130606
DTEND;VALUE=DATE:20130607
UID:251119-20130606@calenda.revues.org
SUMMARY:Boccaccio between Liber and libri\, the tensions of a writer between the Middle Ages and the Renaissance
URL:https://calenda-formation.labocleo.org/251119
DESCRIPTION:Le septième centenaire de la naissance de Boccace en 2013 est l’occasion de faire le point sur des aspects majeurs de la personnalité intellectuelle de l’écrivain et sur la place de ses œuvres dans la culture de son temps et des siècles qui suivirent… @plus_info https://calenda-formation.labocleo.org/251119
LOCATION:Tours\, Chinon
END:VEVENT
BEGIN:VEVENT
DTSTART;VALUE=DATE:20130607
DTEND;VALUE=DATE:20130608
UID:251119-20130607@calenda.revues.org
SUMMARY:Boccaccio between Liber and libri\, the tensions of a writer between the Middle Ages and the Renaissance
URL:https://calenda-formation.labocleo.org/251119
DESCRIPTION:Le septième centenaire de la naissance de Boccace en 2013 est l’occasion de faire le point sur des aspects majeurs de la personnalité intellectuelle de l’écrivain et sur la place de ses œuvres dans la culture de son temps et des siècles qui suivirent… @plus_info https://calenda-formation.labocleo.org/251119
LOCATION:Tours\, Chinon
END:VEVENT
END:VCALENDAR
