BEGIN:VCALENDAR
VERSION:2.0
PRODID:-//https://calenda-formation.labocleo.org
X-WR-CALNAME:Calenda
X-WR-TIMEZONE:Europe/Paris
CALSCALE:GREGORIAN
X-WR-CALDESC:Le calendrier des lettres et sciences humaines et sociales
METHOD:PUBLISH
BEGIN:VEVENT
DTSTART;VALUE=DATE:20130612
DTEND;VALUE=DATE:20130613
UID:251455-20130612@calenda.revues.org
SUMMARY:Global Art History and the Peripheries
URL:https://calenda-formation.labocleo.org/251455
DESCRIPTION:Established in 2009\, Artl@s is a project of a Spatial (Digital) history of arts and letters\, providing scholars with the tools and support needed in order to expound their narratives and qualitative evidence with spatial representations and quantitat… Weitere Informationen https://calenda-formation.labocleo.org/251455
LOCATION:Paris
END:VEVENT
BEGIN:VEVENT
DTSTART;VALUE=DATE:20130613
DTEND;VALUE=DATE:20130614
UID:251455-20130613@calenda.revues.org
SUMMARY:Global Art History and the Peripheries
URL:https://calenda-formation.labocleo.org/251455
DESCRIPTION:Established in 2009\, Artl@s is a project of a Spatial (Digital) history of arts and letters\, providing scholars with the tools and support needed in order to expound their narratives and qualitative evidence with spatial representations and quantitat… Weitere Informationen https://calenda-formation.labocleo.org/251455
LOCATION:Paris
END:VEVENT
BEGIN:VEVENT
DTSTART;VALUE=DATE:20130614
DTEND;VALUE=DATE:20130615
UID:251455-20130614@calenda.revues.org
SUMMARY:Global Art History and the Peripheries
URL:https://calenda-formation.labocleo.org/251455
DESCRIPTION:Established in 2009\, Artl@s is a project of a Spatial (Digital) history of arts and letters\, providing scholars with the tools and support needed in order to expound their narratives and qualitative evidence with spatial representations and quantitat… Weitere Informationen https://calenda-formation.labocleo.org/251455
LOCATION:Paris
END:VEVENT
END:VCALENDAR
