BEGIN:VCALENDAR
VERSION:2.0
PRODID:-//https://calenda-formation.labocleo.org
X-WR-CALNAME:Calenda
X-WR-TIMEZONE:Europe/Paris
CALSCALE:GREGORIAN
X-WR-CALDESC:The calendar for arts, humanities and social sciences
METHOD:PUBLISH
BEGIN:VEVENT
DTSTART;VALUE=DATE:20130915
DTEND;VALUE=DATE:20130916
UID:252145-20130915@calenda.revues.org
SUMMARY:Meanings and identities in construction: dynamics of representations
URL:https://calenda-formation.labocleo.org/252145
DESCRIPTION:Identifier le sens de nos constructions discursives et donner du sens aux identités que nous nous construisons de façon permanente dans des contextes de contact de langues et cultures sont deux démarches qui exigent\, de la part du chercheur\, d’interr… @plus_info https://calenda-formation.labocleo.org/252145
LOCATION:
END:VEVENT
END:VCALENDAR
