BEGIN:VCALENDAR
VERSION:2.0
PRODID:-//https://calenda-formation.labocleo.org
X-WR-CALNAME:Calenda
X-WR-TIMEZONE:Europe/Paris
CALSCALE:GREGORIAN
X-WR-CALDESC:O calendário de letras e de ciências sociais e humanas
METHOD:PUBLISH
BEGIN:VEVENT
DTSTART;VALUE=DATE:20130920
DTEND;VALUE=DATE:20130921
UID:252562-20130920@calenda.revues.org
SUMMARY:Sounds of Freedom: Music and Performance Across the Black Atlantic World
URL:https://calenda-formation.labocleo.org/252562
DESCRIPTION:The Editors of African and Black Diaspora: An International Journal in partnership with the Center for Black Diaspora\, DePaul University\, announce a Call for Papers on “Sounds of Freedom: Music and Performance Across the Black Atlantic World” for a s… @plus_info https://calenda-formation.labocleo.org/252562
LOCATION:Chicago
END:VEVENT
END:VCALENDAR
