BEGIN:VCALENDAR
VERSION:2.0
PRODID:-//https://calenda-formation.labocleo.org
X-WR-CALNAME:Calenda
X-WR-TIMEZONE:Europe/Paris
CALSCALE:GREGORIAN
X-WR-CALDESC:Le calendrier des lettres et sciences humaines et sociales
METHOD:PUBLISH
BEGIN:VEVENT
DTSTART;VALUE=DATE:20130810
DTEND;VALUE=DATE:20130811
UID:253421-20130810@calenda.revues.org
SUMMARY:Histoire et littérature au XIXe siècle
URL:https://calenda-formation.labocleo.org/253421
DESCRIPTION:La revue História e Cultura\, publication électronique des étudiants (master\, doctorat) de la faculté d'histoire de l'université de São Paulo - UNESP (Franca)\, lance un appel à contributions pour le dossier thématique « Histoire et littérature au XIXe… Weitere Informationen https://calenda-formation.labocleo.org/253421
LOCATION:
END:VEVENT
END:VCALENDAR
