BEGIN:VCALENDAR
VERSION:2.0
PRODID:-//https://calenda-formation.labocleo.org
X-WR-CALNAME:Calenda
X-WR-TIMEZONE:Europe/Paris
CALSCALE:GREGORIAN
X-WR-CALDESC:The calendar for arts, humanities and social sciences
METHOD:PUBLISH
BEGIN:VEVENT
DTSTART;VALUE=DATE:20131107
DTEND;VALUE=DATE:20131108
UID:253767-20131107@calenda.revues.org
SUMMARY:"Lived time"\,  V. Woolf\, G. de Nerval\, H. Bergson
URL:https://calenda-formation.labocleo.org/253767
DESCRIPTION:Dans le cadre du programme de préparation aux concours d’entrées dans les grandes écoles\, le lycée Bergson d’Angers\, organise une journée d’études universitaires sur les œuvres au programme du thème général « Le temps vécu » : Gérard de Nerval\, Sylvi… @plus_info https://calenda-formation.labocleo.org/253767
LOCATION:Angers
END:VEVENT
END:VCALENDAR
