BEGIN:VCALENDAR
VERSION:2.0
PRODID:-//https://calenda-formation.labocleo.org
X-WR-CALNAME:Calenda
X-WR-TIMEZONE:Europe/Paris
CALSCALE:GREGORIAN
X-WR-CALDESC:The calendar for arts, humanities and social sciences
METHOD:PUBLISH
BEGIN:VEVENT
DTSTART;VALUE=DATE:20130912
DTEND;VALUE=DATE:20130913
UID:253896-20130912@calenda.revues.org
SUMMARY:Church\, religion and democracy
URL:https://calenda-formation.labocleo.org/253896
DESCRIPTION:On le sait : les rapports à l’Église catholique sont beaucoup plus lâches que par le passé. Il est désormais courant de s’adresser à elle\, de faire appel à ses ressources\, sans pour autant lui « appartenir ». Les régulations institutionnelles ont de … @plus_info https://calenda-formation.labocleo.org/253896
LOCATION:Lille
END:VEVENT
BEGIN:VEVENT
DTSTART;VALUE=DATE:20130913
DTEND;VALUE=DATE:20130914
UID:253896-20130913@calenda.revues.org
SUMMARY:Church\, religion and democracy
URL:https://calenda-formation.labocleo.org/253896
DESCRIPTION:On le sait : les rapports à l’Église catholique sont beaucoup plus lâches que par le passé. Il est désormais courant de s’adresser à elle\, de faire appel à ses ressources\, sans pour autant lui « appartenir ». Les régulations institutionnelles ont de … @plus_info https://calenda-formation.labocleo.org/253896
LOCATION:Lille
END:VEVENT
END:VCALENDAR
