BEGIN:VCALENDAR
VERSION:2.0
PRODID:-//https://calenda-formation.labocleo.org
X-WR-CALNAME:Calenda
X-WR-TIMEZONE:Europe/Paris
CALSCALE:GREGORIAN
X-WR-CALDESC:Le calendrier des lettres et sciences humaines et sociales
METHOD:PUBLISH
BEGIN:VEVENT
DTSTART;VALUE=DATE:20130815
DTEND;VALUE=DATE:20130816
UID:253907-20130815@calenda.revues.org
SUMMARY:Genre\, santé\, sexualités
URL:https://calenda-formation.labocleo.org/253907
DESCRIPTION:Les institutions mondiales\, européennes et françaises de santé construisent leurs politiques publiques autour d’une vision positive et idéalisée de la santé comme « un état de bien-être physique\, mental et social et [qui] ne consiste pas seulement en… Más informaciones https://calenda-formation.labocleo.org/253907
LOCATION:París
END:VEVENT
END:VCALENDAR
