BEGIN:VCALENDAR
VERSION:2.0
PRODID:-//https://calenda-formation.labocleo.org
X-WR-CALNAME:Calenda
X-WR-TIMEZONE:Europe/Paris
CALSCALE:GREGORIAN
X-WR-CALDESC:Le calendrier des lettres et sciences humaines et sociales
METHOD:PUBLISH
BEGIN:VEVENT
DTSTART;VALUE=DATE:20130704
DTEND;VALUE=DATE:20130705
UID:254076-20130704@calenda.revues.org
SUMMARY:Le bal des arts
URL:https://calenda-formation.labocleo.org/254076
DESCRIPTION:Le groupe de recherche de l'ARGEC (Atelier de recherche génois sur l’écriture contemporaine) organise un colloque international intitulé « Le bal des arts. Le sujet et l’image: écrire avec l’art » qui se tiendra du 4 au 6 juillet 2013 et qui constitu… Weitere Informationen https://calenda-formation.labocleo.org/254076
LOCATION:Genua
END:VEVENT
BEGIN:VEVENT
DTSTART;VALUE=DATE:20130705
DTEND;VALUE=DATE:20130706
UID:254076-20130705@calenda.revues.org
SUMMARY:Le bal des arts
URL:https://calenda-formation.labocleo.org/254076
DESCRIPTION:Le groupe de recherche de l'ARGEC (Atelier de recherche génois sur l’écriture contemporaine) organise un colloque international intitulé « Le bal des arts. Le sujet et l’image: écrire avec l’art » qui se tiendra du 4 au 6 juillet 2013 et qui constitu… Weitere Informationen https://calenda-formation.labocleo.org/254076
LOCATION:Genua
END:VEVENT
BEGIN:VEVENT
DTSTART;VALUE=DATE:20130706
DTEND;VALUE=DATE:20130707
UID:254076-20130706@calenda.revues.org
SUMMARY:Le bal des arts
URL:https://calenda-formation.labocleo.org/254076
DESCRIPTION:Le groupe de recherche de l'ARGEC (Atelier de recherche génois sur l’écriture contemporaine) organise un colloque international intitulé « Le bal des arts. Le sujet et l’image: écrire avec l’art » qui se tiendra du 4 au 6 juillet 2013 et qui constitu… Weitere Informationen https://calenda-formation.labocleo.org/254076
LOCATION:Genua
END:VEVENT
END:VCALENDAR
