BEGIN:VCALENDAR
VERSION:2.0
PRODID:-//https://calenda-formation.labocleo.org
X-WR-CALNAME:Calenda
X-WR-TIMEZONE:Europe/Paris
CALSCALE:GREGORIAN
X-WR-CALDESC:O calendário de letras e de ciências sociais e humanas
METHOD:PUBLISH
BEGIN:VEVENT
DTSTART;VALUE=DATE:20130712
DTEND;VALUE=DATE:20130713
UID:254110-20130712@calenda.revues.org
SUMMARY:NightScience : l'innovation dans l'éducation au cœur de Paris
URL:https://calenda-formation.labocleo.org/254110
DESCRIPTION:Pour sa troisième édition consécutive\, l’évènement NightScience reste fidèle à sa mission : faire se rencontrer les créateurs de connaissances et explorer ensemble des territoires encore inexplorés de la science et l’éducation. Pour aborder ces défis… @plus_info https://calenda-formation.labocleo.org/254110
LOCATION:Paris
END:VEVENT
BEGIN:VEVENT
DTSTART;VALUE=DATE:20130713
DTEND;VALUE=DATE:20130714
UID:254110-20130713@calenda.revues.org
SUMMARY:NightScience : l'innovation dans l'éducation au cœur de Paris
URL:https://calenda-formation.labocleo.org/254110
DESCRIPTION:Pour sa troisième édition consécutive\, l’évènement NightScience reste fidèle à sa mission : faire se rencontrer les créateurs de connaissances et explorer ensemble des territoires encore inexplorés de la science et l’éducation. Pour aborder ces défis… @plus_info https://calenda-formation.labocleo.org/254110
LOCATION:Paris
END:VEVENT
BEGIN:VEVENT
DTSTART;VALUE=DATE:20130714
DTEND;VALUE=DATE:20130715
UID:254110-20130714@calenda.revues.org
SUMMARY:NightScience : l'innovation dans l'éducation au cœur de Paris
URL:https://calenda-formation.labocleo.org/254110
DESCRIPTION:Pour sa troisième édition consécutive\, l’évènement NightScience reste fidèle à sa mission : faire se rencontrer les créateurs de connaissances et explorer ensemble des territoires encore inexplorés de la science et l’éducation. Pour aborder ces défis… @plus_info https://calenda-formation.labocleo.org/254110
LOCATION:Paris
END:VEVENT
END:VCALENDAR
