BEGIN:VCALENDAR
VERSION:2.0
PRODID:-//https://calenda-formation.labocleo.org
X-WR-CALNAME:Calenda
X-WR-TIMEZONE:Europe/Paris
CALSCALE:GREGORIAN
X-WR-CALDESC:Le calendrier des lettres et sciences humaines et sociales
METHOD:PUBLISH
BEGIN:VEVENT
DTSTART;VALUE=DATE:20130927
DTEND;VALUE=DATE:20130928
UID:254319-20130927@calenda.revues.org
SUMMARY:Le droit de la sécurité et de la défense en 2013
URL:https://calenda-formation.labocleo.org/254319
DESCRIPTION:L'association française du droit de la sécurité et de la défense organise son premier colloque annuel à la faculté de droit et de science politique de Nice\, les 27 et 28 septembre 2013\, sur le thème : Le droit de la sécurité et de la défense en 2013.… Más informaciones https://calenda-formation.labocleo.org/254319
LOCATION:Niza
END:VEVENT
BEGIN:VEVENT
DTSTART;VALUE=DATE:20130928
DTEND;VALUE=DATE:20130929
UID:254319-20130928@calenda.revues.org
SUMMARY:Le droit de la sécurité et de la défense en 2013
URL:https://calenda-formation.labocleo.org/254319
DESCRIPTION:L'association française du droit de la sécurité et de la défense organise son premier colloque annuel à la faculté de droit et de science politique de Nice\, les 27 et 28 septembre 2013\, sur le thème : Le droit de la sécurité et de la défense en 2013.… Más informaciones https://calenda-formation.labocleo.org/254319
LOCATION:Niza
END:VEVENT
END:VCALENDAR
