BEGIN:VCALENDAR
VERSION:2.0
PRODID:-//https://calenda-formation.labocleo.org
X-WR-CALNAME:Calenda
X-WR-TIMEZONE:Europe/Paris
CALSCALE:GREGORIAN
X-WR-CALDESC:The calendar for arts, humanities and social sciences
METHOD:PUBLISH
BEGIN:VEVENT
DTSTART;VALUE=DATE:20130920
DTEND;VALUE=DATE:20130921
UID:254349-20130920@calenda.revues.org
SUMMARY:What violence does to militant careers (France\, 1962-2012)
URL:https://calenda-formation.labocleo.org/254349
DESCRIPTION:Cette journée d'étude invite à dresser un état des lieux interdisciplinaire des recherches portant sur la violence politique telle qu'elle se décline en France depuis cinquante ans. Si la violence politique est « un objet pluridisciplinaire défriché … @plus_info https://calenda-formation.labocleo.org/254349
LOCATION:Bordeaux
END:VEVENT
END:VCALENDAR
