BEGIN:VCALENDAR
VERSION:2.0
PRODID:-//https://calenda-formation.labocleo.org
X-WR-CALNAME:Calenda
X-WR-TIMEZONE:Europe/Paris
CALSCALE:GREGORIAN
X-WR-CALDESC:O calendário de letras e de ciências sociais e humanas
METHOD:PUBLISH
BEGIN:VEVENT
DTSTART;VALUE=DATE:20131115
DTEND;VALUE=DATE:20131116
UID:255149-20131115@calenda.revues.org
SUMMARY:Appel à jeunes chercheurs master 1 ou 2 (2013-2014)
URL:https://calenda-formation.labocleo.org/255149
DESCRIPTION:Le Rize\, équipement culturel de la Ville de Villeurbanne\, acccueille en résidence trois jeunes chercheurs inscrits en master 1 ou 2 de sciences humaines et sociales (stages indemnisés de quatre à six mois entre décembre 2013 et juin 2014). … @plus_info https://calenda-formation.labocleo.org/255149
LOCATION:Villeurbanne
END:VEVENT
END:VCALENDAR
