BEGIN:VCALENDAR
VERSION:2.0
PRODID:-//https://calenda-formation.labocleo.org
X-WR-CALNAME:Calenda
X-WR-TIMEZONE:Europe/Paris
CALSCALE:GREGORIAN
X-WR-CALDESC:Le calendrier des lettres et sciences humaines et sociales
METHOD:PUBLISH
BEGIN:VEVENT
DTSTART;VALUE=DATE:20131002
DTEND;VALUE=DATE:20131003
UID:255434-20131002@calenda.revues.org
SUMMARY:Les modèle italiques dans l'architecture des IIe et Ier siècles avant J.-C. en Gaule et dans les régions voisines
URL:https://calenda-formation.labocleo.org/255434
DESCRIPTION:Divers lieux du sud de la Gaule et des régions périphériques ont récemment livré des témoignages indiscutables d’architecture de type italique antérieurs au règne d’Auguste\, et dans certains cas antérieurs à la guerre des Gaules. Ces découvertes\, iss… @plus_info https://calenda-formation.labocleo.org/255434
LOCATION:Toulouse
END:VEVENT
BEGIN:VEVENT
DTSTART;VALUE=DATE:20131003
DTEND;VALUE=DATE:20131004
UID:255434-20131003@calenda.revues.org
SUMMARY:Les modèle italiques dans l'architecture des IIe et Ier siècles avant J.-C. en Gaule et dans les régions voisines
URL:https://calenda-formation.labocleo.org/255434
DESCRIPTION:Divers lieux du sud de la Gaule et des régions périphériques ont récemment livré des témoignages indiscutables d’architecture de type italique antérieurs au règne d’Auguste\, et dans certains cas antérieurs à la guerre des Gaules. Ces découvertes\, iss… @plus_info https://calenda-formation.labocleo.org/255434
LOCATION:Toulouse
END:VEVENT
BEGIN:VEVENT
DTSTART;VALUE=DATE:20131004
DTEND;VALUE=DATE:20131005
UID:255434-20131004@calenda.revues.org
SUMMARY:Les modèle italiques dans l'architecture des IIe et Ier siècles avant J.-C. en Gaule et dans les régions voisines
URL:https://calenda-formation.labocleo.org/255434
DESCRIPTION:Divers lieux du sud de la Gaule et des régions périphériques ont récemment livré des témoignages indiscutables d’architecture de type italique antérieurs au règne d’Auguste\, et dans certains cas antérieurs à la guerre des Gaules. Ces découvertes\, iss… @plus_info https://calenda-formation.labocleo.org/255434
LOCATION:Toulouse
END:VEVENT
END:VCALENDAR
