BEGIN:VCALENDAR
VERSION:2.0
PRODID:-//https://calenda-formation.labocleo.org
X-WR-CALNAME:Calenda
X-WR-TIMEZONE:Europe/Paris
CALSCALE:GREGORIAN
X-WR-CALDESC:The calendar for arts, humanities and social sciences
METHOD:PUBLISH
BEGIN:VEVENT
DTSTART;VALUE=DATE:20130930
DTEND;VALUE=DATE:20131001
UID:255558-20130930@calenda.revues.org
SUMMARY:The progress of perfected industry
URL:https://calenda-formation.labocleo.org/255558
DESCRIPTION:Up until now the revolutionary period has mainly been considered as a period of disruption\, especially in the field of luxury industries\, which were considered to be at odds with the values of the new emerging social system. It is now possible to sho… @plus_info https://calenda-formation.labocleo.org/255558
LOCATION:
END:VEVENT
END:VCALENDAR
