BEGIN:VCALENDAR
VERSION:2.0
PRODID:-//https://calenda-formation.labocleo.org
X-WR-CALNAME:Calenda
X-WR-TIMEZONE:Europe/Paris
CALSCALE:GREGORIAN
X-WR-CALDESC:O calendário de letras e de ciências sociais e humanas
METHOD:PUBLISH
BEGIN:VEVENT
DTSTART;VALUE=DATE:20131015
DTEND;VALUE=DATE:20131016
UID:255602-20131015@calenda.revues.org
SUMMARY:Cornelius Castoriadis et Claude Lefort : l’expérience démocratique
URL:https://calenda-formation.labocleo.org/255602
DESCRIPTION:Ce colloque\, organisé par le laboratoire Sophiapol\, cherche à faire ressortir les différences d’approche entre une pensée de la démocratie comme auto-institution explicite de la société et une conception de l’agir démocratique soucieuse de mettre ava… @plus_info https://calenda-formation.labocleo.org/255602
LOCATION:Nanterre
END:VEVENT
BEGIN:VEVENT
DTSTART;VALUE=DATE:20131016
DTEND;VALUE=DATE:20131017
UID:255602-20131016@calenda.revues.org
SUMMARY:Cornelius Castoriadis et Claude Lefort : l’expérience démocratique
URL:https://calenda-formation.labocleo.org/255602
DESCRIPTION:Ce colloque\, organisé par le laboratoire Sophiapol\, cherche à faire ressortir les différences d’approche entre une pensée de la démocratie comme auto-institution explicite de la société et une conception de l’agir démocratique soucieuse de mettre ava… @plus_info https://calenda-formation.labocleo.org/255602
LOCATION:Nanterre
END:VEVENT
BEGIN:VEVENT
DTSTART;VALUE=DATE:20131017
DTEND;VALUE=DATE:20131018
UID:255602-20131017@calenda.revues.org
SUMMARY:Cornelius Castoriadis et Claude Lefort : l’expérience démocratique
URL:https://calenda-formation.labocleo.org/255602
DESCRIPTION:Ce colloque\, organisé par le laboratoire Sophiapol\, cherche à faire ressortir les différences d’approche entre une pensée de la démocratie comme auto-institution explicite de la société et une conception de l’agir démocratique soucieuse de mettre ava… @plus_info https://calenda-formation.labocleo.org/255602
LOCATION:Nanterre
END:VEVENT
END:VCALENDAR
