BEGIN:VCALENDAR
VERSION:2.0
PRODID:-//https://calenda-formation.labocleo.org
X-WR-CALNAME:Calenda
X-WR-TIMEZONE:Europe/Paris
CALSCALE:GREGORIAN
X-WR-CALDESC:The calendar for arts, humanities and social sciences
METHOD:PUBLISH
BEGIN:VEVENT
DTSTART;VALUE=DATE:20131230
DTEND;VALUE=DATE:20131231
UID:255664-20131230@calenda.revues.org
SUMMARY:Man and air: corporeal practices\, inventivity\, organisation and territoriality in aerial activities
URL:https://calenda-formation.labocleo.org/255664
DESCRIPTION:Le laboratoire SENS de l'université Joseph Fourier-Grenoble 1 organise le premier colloque européen « L'homme et l'air : pratiques corporelles\, inventivité\, organisation et territorialités dans les activités aériennes ». De nombreuses disciplines sci… @plus_info https://calenda-formation.labocleo.org/255664
LOCATION:Grenoble
END:VEVENT
END:VCALENDAR
