BEGIN:VCALENDAR
VERSION:2.0
PRODID:-//https://calenda-formation.labocleo.org
X-WR-CALNAME:Calenda
X-WR-TIMEZONE:Europe/Paris
CALSCALE:GREGORIAN
X-WR-CALDESC:Le calendrier des lettres et sciences humaines et sociales
METHOD:PUBLISH
BEGIN:VEVENT
DTSTART;VALUE=DATE:20140531
DTEND;VALUE=DATE:20140601
UID:255914-20140531@calenda.revues.org
SUMMARY:La comparaison internationale : méthodes et enjeux
URL:https://calenda-formation.labocleo.org/255914
DESCRIPTION:Espaces et sociétés réinterroge le rôle et la place de la comparaison internationale dans son domaine : les relations entre les sociétés et leurs espaces. Le dossier en préparation engage la réflexion sur les enjeux et les méthodes à l’œuvre dans cet… Weitere Informationen https://calenda-formation.labocleo.org/255914
LOCATION:Straßburg
END:VEVENT
END:VCALENDAR
