BEGIN:VCALENDAR
VERSION:2.0
PRODID:-//https://calenda-formation.labocleo.org
X-WR-CALNAME:Calenda
X-WR-TIMEZONE:Europe/Paris
CALSCALE:GREGORIAN
X-WR-CALDESC:The calendar for arts, humanities and social sciences
METHOD:PUBLISH
BEGIN:VEVENT
DTSTART;VALUE=DATE:20140531
DTEND;VALUE=DATE:20140601
UID:255914-20140531@calenda.revues.org
SUMMARY:International comparison: methods and challenges
URL:https://calenda-formation.labocleo.org/255914
DESCRIPTION:Espaces et sociétés raises the issue of the aims of international comparison in its specific scientific field: the relationship between societies and their spaces. This themed issue intends to discuss the challenges and methodologies at stake in comp… @plus_info https://calenda-formation.labocleo.org/255914
LOCATION:Strasbourg
END:VEVENT
END:VCALENDAR
