BEGIN:VCALENDAR
VERSION:2.0
PRODID:-//https://calenda-formation.labocleo.org
X-WR-CALNAME:Calenda
X-WR-TIMEZONE:Europe/Paris
CALSCALE:GREGORIAN
X-WR-CALDESC:The calendar for arts, humanities and social sciences
METHOD:PUBLISH
BEGIN:VEVENT
DTSTART;VALUE=DATE:20131001
DTEND;VALUE=DATE:20131002
UID:255968-20131001@calenda.revues.org
SUMMARY:Developing a sense of belonging in diverse societies
URL:https://calenda-formation.labocleo.org/255968
DESCRIPTION:The aim of this workshop is to gather scholars who work on Hui-Muslims in China and Muslims in Europe to compare the similitudes and differences of identity practices. Hui are predominantly Chinese speaking Muslims in China’s vast territory. With a p… @plus_info https://calenda-formation.labocleo.org/255968
LOCATION:Leuven
END:VEVENT
END:VCALENDAR
