BEGIN:VCALENDAR
VERSION:2.0
PRODID:-//https://calenda-formation.labocleo.org
X-WR-CALNAME:Calenda
X-WR-TIMEZONE:Europe/Paris
CALSCALE:GREGORIAN
X-WR-CALDESC:Le calendrier des lettres et sciences humaines et sociales
METHOD:PUBLISH
BEGIN:VEVENT
DTSTART;VALUE=DATE:20130920
DTEND;VALUE=DATE:20130921
UID:256512-20130920@calenda.revues.org
SUMMARY:Les conversations socratiques. Tribune publique – tribune critique
URL:https://calenda-formation.labocleo.org/256512
DESCRIPTION:Un débat et des regards croisés dans un quartier où la musique est partie intégrante du paysage. Une belle occasion d’échanger avec des spécialistes de l'ethnomusicologie\, de la géographie et de l’aménagement\, de l’architecture et de l’urbanisme. Ser… Más informaciones https://calenda-formation.labocleo.org/256512
LOCATION:Tolosa
END:VEVENT
BEGIN:VEVENT
DTSTART;VALUE=DATE:20131003
DTEND;VALUE=DATE:20131004
UID:256512-20131003@calenda.revues.org
SUMMARY:Les conversations socratiques. Tribune publique – tribune critique
URL:https://calenda-formation.labocleo.org/256512
DESCRIPTION:Un débat et des regards croisés dans un quartier où la musique est partie intégrante du paysage. Une belle occasion d’échanger avec des spécialistes de l'ethnomusicologie\, de la géographie et de l’aménagement\, de l’architecture et de l’urbanisme. Ser… Más informaciones https://calenda-formation.labocleo.org/256512
LOCATION:Tolosa
END:VEVENT
END:VCALENDAR
