BEGIN:VCALENDAR
VERSION:2.0
PRODID:-//https://calenda-formation.labocleo.org
X-WR-CALNAME:Calenda
X-WR-TIMEZONE:Europe/Paris
CALSCALE:GREGORIAN
X-WR-CALDESC:Le calendrier des lettres et sciences humaines et sociales
METHOD:PUBLISH
BEGIN:VEVENT
DTSTART;VALUE=DATE:20131015
DTEND;VALUE=DATE:20131016
UID:257031-20131015@calenda.revues.org
SUMMARY:Prime Minister and Patron : Heinrich Count von Brühl (1700-1763)
URL:https://calenda-formation.labocleo.org/257031
DESCRIPTION:The 250th anniversary of the death of Heinrich Count von Brühl will be taken as an opportunity to assess the field of research on this controversial valued patron and collector\, and to identify further areas of investigation. A central point of inqui… Más informaciones https://calenda-formation.labocleo.org/257031
LOCATION:Dresde\, Roma
END:VEVENT
END:VCALENDAR
