BEGIN:VCALENDAR
VERSION:2.0
PRODID:-//https://calenda-formation.labocleo.org
X-WR-CALNAME:Calenda
X-WR-TIMEZONE:Europe/Paris
CALSCALE:GREGORIAN
X-WR-CALDESC:The calendar for arts, humanities and social sciences
METHOD:PUBLISH
BEGIN:VEVENT
DTSTART;VALUE=DATE:20131213
DTEND;VALUE=DATE:20131214
UID:257041-20131213@calenda.revues.org
SUMMARY:Towards a care society?
URL:https://calenda-formation.labocleo.org/257041
DESCRIPTION:La Revue des Sciences Sociales va proposer un numéro spécial sur la question du care. Ce numéro est intitulé « Vers une société du care ? » et il est coordonné par Catherine Delcroix et Juan Matas. Il s'agit de poursuivre et approfondir les réflexion… @plus_info https://calenda-formation.labocleo.org/257041
LOCATION:
END:VEVENT
END:VCALENDAR
