BEGIN:VCALENDAR
VERSION:2.0
PRODID:-//https://calenda-formation.labocleo.org
X-WR-CALNAME:Calenda
X-WR-TIMEZONE:Europe/Paris
CALSCALE:GREGORIAN
X-WR-CALDESC:Le calendrier des lettres et sciences humaines et sociales
METHOD:PUBLISH
BEGIN:VEVENT
DTSTART;VALUE=DATE:20130907
DTEND;VALUE=DATE:20130908
UID:257682-20130907@calenda.revues.org
SUMMARY:Historicising Deliberative Democracy
URL:https://calenda-formation.labocleo.org/257682
DESCRIPTION:The last thirty years have seen the burgeoning of political and academic speeches on the merits of participative or deliberative democracy. In parallel\, in occidental democracies\, various systems sharing the ambition to strengthen or increase citizen… Weitere Informationen https://calenda-formation.labocleo.org/257682
LOCATION:Bordeaux
END:VEVENT
END:VCALENDAR
