BEGIN:VCALENDAR
VERSION:2.0
PRODID:-//https://calenda-formation.labocleo.org
X-WR-CALNAME:Calenda
X-WR-TIMEZONE:Europe/Paris
CALSCALE:GREGORIAN
X-WR-CALDESC:Le calendrier des lettres et sciences humaines et sociales
METHOD:PUBLISH
BEGIN:VEVENT
DTSTART;VALUE=DATE:20130912
DTEND;VALUE=DATE:20130913
UID:257689-20130912@calenda.revues.org
SUMMARY:Approches ethno/musicologiques des processus de création musicale
URL:https://calenda-formation.labocleo.org/257689
DESCRIPTION:Dans le prolongement des deux projets ANR MuTeC (2009-2011\, coord. N. Donin) et GLOBAMUS (2009-2012\, coord. E. Olivier)\, et avec le soutien du LabEx « Création\, Arts\, Patrimoine »\, les Journées internationales « Approches ethno/musicologiques des pro… @plus_info https://calenda-formation.labocleo.org/257689
LOCATION:Paris
END:VEVENT
BEGIN:VEVENT
DTSTART;VALUE=DATE:20130913
DTEND;VALUE=DATE:20130914
UID:257689-20130913@calenda.revues.org
SUMMARY:Approches ethno/musicologiques des processus de création musicale
URL:https://calenda-formation.labocleo.org/257689
DESCRIPTION:Dans le prolongement des deux projets ANR MuTeC (2009-2011\, coord. N. Donin) et GLOBAMUS (2009-2012\, coord. E. Olivier)\, et avec le soutien du LabEx « Création\, Arts\, Patrimoine »\, les Journées internationales « Approches ethno/musicologiques des pro… @plus_info https://calenda-formation.labocleo.org/257689
LOCATION:Paris
END:VEVENT
END:VCALENDAR
