BEGIN:VCALENDAR
VERSION:2.0
PRODID:-//https://calenda-formation.labocleo.org
X-WR-CALNAME:Calenda
X-WR-TIMEZONE:Europe/Paris
CALSCALE:GREGORIAN
X-WR-CALDESC:Le calendrier des lettres et sciences humaines et sociales
METHOD:PUBLISH
BEGIN:VEVENT
DTSTART;VALUE=DATE:20131030
DTEND;VALUE=DATE:20131031
UID:257725-20131030@calenda.revues.org
SUMMARY:Sociologies post-occidentales\, de l’Asie à l’Europe
URL:https://calenda-formation.labocleo.org/257725
DESCRIPTION:Comment penser la pluralité des récits narratifs des sociétés contemporaines en contexte de globalisation? Comment défaire les hiérarchies construites par les colonialismes entre sociétés occidentales et sociétés orientales\, moyen-orientales\, africai… Más informaciones https://calenda-formation.labocleo.org/257725
LOCATION:
END:VEVENT
END:VCALENDAR
