BEGIN:VCALENDAR
VERSION:2.0
PRODID:-//https://calenda-formation.labocleo.org
X-WR-CALNAME:Calenda
X-WR-TIMEZONE:Europe/Paris
CALSCALE:GREGORIAN
X-WR-CALDESC:Le calendrier des lettres et sciences humaines et sociales
METHOD:PUBLISH
BEGIN:VEVENT
DTSTART;VALUE=DATE:20131003
DTEND;VALUE=DATE:20131004
UID:258018-20131003@calenda.revues.org
SUMMARY:La rééducation en tant que telle doit disparaître !
URL:https://calenda-formation.labocleo.org/258018
DESCRIPTION:Après une première rencontre consacrée à la place des périodiques professionnels dans la construction du champ de l’éducation spécialisée\, en avril 2011\, l'ENPJJ et le laboratoire CRIHAM de l'université de Poitiers organise une seconde journée d’étud… Weitere Informationen https://calenda-formation.labocleo.org/258018
LOCATION:Poitiers
END:VEVENT
END:VCALENDAR
