BEGIN:VCALENDAR
VERSION:2.0
PRODID:-//https://calenda-formation.labocleo.org
X-WR-CALNAME:Calenda
X-WR-TIMEZONE:Europe/Paris
CALSCALE:GREGORIAN
X-WR-CALDESC:Le calendrier des lettres et sciences humaines et sociales
METHOD:PUBLISH
BEGIN:VEVENT
DTSTART;VALUE=DATE:20130912
DTEND;VALUE=DATE:20130913
UID:258327-20130912@calenda.revues.org
SUMMARY:L'exil chilien en France
URL:https://calenda-formation.labocleo.org/258327
DESCRIPTION:Au Musée de l’histoire de l’immigration\, les revues Hommes & Migrations et Rue Saint Ambroise célèbrent les 40 ans de présence en France des exilés chiliens. Dans les années 70\, la société française accueille des milliers d’exilés chiliens qui pour u… Más informaciones https://calenda-formation.labocleo.org/258327
LOCATION:París
END:VEVENT
BEGIN:VEVENT
DTSTART;VALUE=DATE:20130913
DTEND;VALUE=DATE:20130914
UID:258327-20130913@calenda.revues.org
SUMMARY:L'exil chilien en France
URL:https://calenda-formation.labocleo.org/258327
DESCRIPTION:Au Musée de l’histoire de l’immigration\, les revues Hommes & Migrations et Rue Saint Ambroise célèbrent les 40 ans de présence en France des exilés chiliens. Dans les années 70\, la société française accueille des milliers d’exilés chiliens qui pour u… Más informaciones https://calenda-formation.labocleo.org/258327
LOCATION:París
END:VEVENT
END:VCALENDAR
