BEGIN:VCALENDAR
VERSION:2.0
PRODID:-//https://calenda-formation.labocleo.org
X-WR-CALNAME:Calenda
X-WR-TIMEZONE:Europe/Paris
CALSCALE:GREGORIAN
X-WR-CALDESC:The calendar for arts, humanities and social sciences
METHOD:PUBLISH
BEGIN:VEVENT
DTSTART;VALUE=DATE:20130926
DTEND;VALUE=DATE:20130927
UID:258540-20130926@calenda.revues.org
SUMMARY:Encountering the Other in wartime. The Great War as an intercultural moment?
URL:https://calenda-formation.labocleo.org/258540
DESCRIPTION:La Cité de l’immigration s’associe à l’Institut historique allemand pour accueillir le 7ème colloque de l’International Society for First World War Studies\, qui s’inscrit dans la programmation du centenaire de la Grande Guerre. Sur deux jours\, une qu… @plus_info https://calenda-formation.labocleo.org/258540
LOCATION:Paris
END:VEVENT
BEGIN:VEVENT
DTSTART;VALUE=DATE:20130927
DTEND;VALUE=DATE:20130928
UID:258540-20130927@calenda.revues.org
SUMMARY:Encountering the Other in wartime. The Great War as an intercultural moment?
URL:https://calenda-formation.labocleo.org/258540
DESCRIPTION:La Cité de l’immigration s’associe à l’Institut historique allemand pour accueillir le 7ème colloque de l’International Society for First World War Studies\, qui s’inscrit dans la programmation du centenaire de la Grande Guerre. Sur deux jours\, une qu… @plus_info https://calenda-formation.labocleo.org/258540
LOCATION:Paris
END:VEVENT
END:VCALENDAR
