BEGIN:VCALENDAR
VERSION:2.0
PRODID:-//https://calenda-formation.labocleo.org
X-WR-CALNAME:Calenda
X-WR-TIMEZONE:Europe/Paris
CALSCALE:GREGORIAN
X-WR-CALDESC:Le calendrier des lettres et sciences humaines et sociales
METHOD:PUBLISH
BEGIN:VEVENT
DTSTART;VALUE=DATE:20140115
DTEND;VALUE=DATE:20140116
UID:258629-20140115@calenda.revues.org
SUMMARY:Des serious games à la gamification. Approches critiques des disséminations vidéoludiques
URL:https://calenda-formation.labocleo.org/258629
DESCRIPTION:Avec l'apparition des serious games\, la notion classique du jeu\, activité libre et improductive\, est remise en question. Les nouvelles applications de la gamification nous promettent la transformation de notre quotidien en jeu vidéo. Ce numéro d'Inte… Weitere Informationen https://calenda-formation.labocleo.org/258629
LOCATION:
END:VEVENT
END:VCALENDAR
