BEGIN:VCALENDAR
VERSION:2.0
PRODID:-//https://calenda-formation.labocleo.org
X-WR-CALNAME:Calenda
X-WR-TIMEZONE:Europe/Paris
CALSCALE:GREGORIAN
X-WR-CALDESC:Le calendrier des lettres et sciences humaines et sociales
METHOD:PUBLISH
BEGIN:VEVENT
DTSTART;VALUE=DATE:20130913
DTEND;VALUE=DATE:20130914
UID:258826-20130913@calenda.revues.org
SUMMARY:Ethnologie(s) du littéraire
URL:https://calenda-formation.labocleo.org/258826
DESCRIPTION:Journées d'étude pluridisciplinaires et internationales (études littéraires\, ethnocritique et anthropologie) consacrées aux différentes approches ethnologiques du champ littéraire\, des institutions de la culture et du texte littéraire lui-même (Baude… Más informaciones https://calenda-formation.labocleo.org/258826
LOCATION:Metz
END:VEVENT
BEGIN:VEVENT
DTSTART;VALUE=DATE:20130914
DTEND;VALUE=DATE:20130915
UID:258826-20130914@calenda.revues.org
SUMMARY:Ethnologie(s) du littéraire
URL:https://calenda-formation.labocleo.org/258826
DESCRIPTION:Journées d'étude pluridisciplinaires et internationales (études littéraires\, ethnocritique et anthropologie) consacrées aux différentes approches ethnologiques du champ littéraire\, des institutions de la culture et du texte littéraire lui-même (Baude… Más informaciones https://calenda-formation.labocleo.org/258826
LOCATION:Metz
END:VEVENT
END:VCALENDAR
