BEGIN:VCALENDAR
VERSION:2.0
PRODID:-//https://calenda-formation.labocleo.org
X-WR-CALNAME:Calenda
X-WR-TIMEZONE:Europe/Paris
CALSCALE:GREGORIAN
X-WR-CALDESC:The calendar for arts, humanities and social sciences
METHOD:PUBLISH
BEGIN:VEVENT
DTSTART;VALUE=DATE:20131130
DTEND;VALUE=DATE:20131201
UID:259172-20131130@calenda.revues.org
SUMMARY:Art(s) & space(s)
URL:https://calenda-formation.labocleo.org/259172
DESCRIPTION:This special issue of Belgeo is dedicated to the relations between art and space (publication planned for autumn 2014). We suggest three main directions for articles: the first one aims to collect epistemological reflections concerning the developmen… @plus_info https://calenda-formation.labocleo.org/259172
LOCATION:
END:VEVENT
END:VCALENDAR
