BEGIN:VCALENDAR
VERSION:2.0
PRODID:-//https://calenda-formation.labocleo.org
X-WR-CALNAME:Calenda
X-WR-TIMEZONE:Europe/Paris
CALSCALE:GREGORIAN
X-WR-CALDESC:Le calendrier des lettres et sciences humaines et sociales
METHOD:PUBLISH
BEGIN:VEVENT
DTSTART;VALUE=DATE:20130926
DTEND;VALUE=DATE:20130927
UID:259344-20130926@calenda.revues.org
SUMMARY:Au-delà du monument. Le devenir des églises : patrimonialisation ou disparition ? 
URL:https://calenda-formation.labocleo.org/259344
DESCRIPTION:Cette Neuvième rencontre internationale des jeunes chercheurs en patrimoine veut discuter de la patrimonialisation des églises et des chapelles des traditions religieuses historiques en interrogeant sous un angle pragmatique leur passage\, depuis l’es… Más informaciones https://calenda-formation.labocleo.org/259344
LOCATION:Lovaina
END:VEVENT
BEGIN:VEVENT
DTSTART;VALUE=DATE:20130927
DTEND;VALUE=DATE:20130928
UID:259344-20130927@calenda.revues.org
SUMMARY:Au-delà du monument. Le devenir des églises : patrimonialisation ou disparition ? 
URL:https://calenda-formation.labocleo.org/259344
DESCRIPTION:Cette Neuvième rencontre internationale des jeunes chercheurs en patrimoine veut discuter de la patrimonialisation des églises et des chapelles des traditions religieuses historiques en interrogeant sous un angle pragmatique leur passage\, depuis l’es… Más informaciones https://calenda-formation.labocleo.org/259344
LOCATION:Lovaina
END:VEVENT
END:VCALENDAR
