BEGIN:VCALENDAR
VERSION:2.0
PRODID:-//https://calenda-formation.labocleo.org
X-WR-CALNAME:Calenda
X-WR-TIMEZONE:Europe/Paris
CALSCALE:GREGORIAN
X-WR-CALDESC:Le calendrier des lettres et sciences humaines et sociales
METHOD:PUBLISH
BEGIN:VEVENT
DTSTART;VALUE=DATE:20131209
DTEND;VALUE=DATE:20131210
UID:259363-20131209@calenda.revues.org
SUMMARY:Contrat doctoral en circulations internationales\, études européennes et action publique
URL:https://calenda-formation.labocleo.org/259363
DESCRIPTION:Cette allocation de thèse d’une durée de 3 ans est financée par le conseil régional d’Aquitaine dans le cadre d’un projet de recherche coordonné par Cécile Vigour. La thèse s’inscrit au croisement : des études européennes et de l’analyse des dynamiqu… Más informaciones https://calenda-formation.labocleo.org/259363
LOCATION:Burdeos
END:VEVENT
END:VCALENDAR
