BEGIN:VCALENDAR
VERSION:2.0
PRODID:-//https://calenda-formation.labocleo.org
X-WR-CALNAME:Calenda
X-WR-TIMEZONE:Europe/Paris
CALSCALE:GREGORIAN
X-WR-CALDESC:Le calendrier des lettres et sciences humaines et sociales
METHOD:PUBLISH
BEGIN:VEVENT
DTSTART;VALUE=DATE:20131007
DTEND;VALUE=DATE:20131008
UID:259956-20131007@calenda.revues.org
SUMMARY:Empires. Histoire des colonisations
URL:https://calenda-formation.labocleo.org/259956
DESCRIPTION:Nous nous proposons cette année d’aborder le thème des « sujets d'empires ». Nous souhaitons continuer à interroger la nature et les caractéristiques des constructions impériales\, en revenant sur les modes d’assujettissement\, sur les discriminations … @plus_info https://calenda-formation.labocleo.org/259956
LOCATION:Paris
END:VEVENT
BEGIN:VEVENT
DTSTART;VALUE=DATE:20131104
DTEND;VALUE=DATE:20131105
UID:259956-20131104@calenda.revues.org
SUMMARY:Empires. Histoire des colonisations
URL:https://calenda-formation.labocleo.org/259956
DESCRIPTION:Nous nous proposons cette année d’aborder le thème des « sujets d'empires ». Nous souhaitons continuer à interroger la nature et les caractéristiques des constructions impériales\, en revenant sur les modes d’assujettissement\, sur les discriminations … @plus_info https://calenda-formation.labocleo.org/259956
LOCATION:Paris
END:VEVENT
BEGIN:VEVENT
DTSTART;VALUE=DATE:20131202
DTEND;VALUE=DATE:20131203
UID:259956-20131202@calenda.revues.org
SUMMARY:Empires. Histoire des colonisations
URL:https://calenda-formation.labocleo.org/259956
DESCRIPTION:Nous nous proposons cette année d’aborder le thème des « sujets d'empires ». Nous souhaitons continuer à interroger la nature et les caractéristiques des constructions impériales\, en revenant sur les modes d’assujettissement\, sur les discriminations … @plus_info https://calenda-formation.labocleo.org/259956
LOCATION:Paris
END:VEVENT
BEGIN:VEVENT
DTSTART;VALUE=DATE:20140113
DTEND;VALUE=DATE:20140114
UID:259956-20140113@calenda.revues.org
SUMMARY:Empires. Histoire des colonisations
URL:https://calenda-formation.labocleo.org/259956
DESCRIPTION:Nous nous proposons cette année d’aborder le thème des « sujets d'empires ». Nous souhaitons continuer à interroger la nature et les caractéristiques des constructions impériales\, en revenant sur les modes d’assujettissement\, sur les discriminations … @plus_info https://calenda-formation.labocleo.org/259956
LOCATION:Paris
END:VEVENT
BEGIN:VEVENT
DTSTART;VALUE=DATE:20140203
DTEND;VALUE=DATE:20140204
UID:259956-20140203@calenda.revues.org
SUMMARY:Empires. Histoire des colonisations
URL:https://calenda-formation.labocleo.org/259956
DESCRIPTION:Nous nous proposons cette année d’aborder le thème des « sujets d'empires ». Nous souhaitons continuer à interroger la nature et les caractéristiques des constructions impériales\, en revenant sur les modes d’assujettissement\, sur les discriminations … @plus_info https://calenda-formation.labocleo.org/259956
LOCATION:Paris
END:VEVENT
BEGIN:VEVENT
DTSTART;VALUE=DATE:20140303
DTEND;VALUE=DATE:20140304
UID:259956-20140303@calenda.revues.org
SUMMARY:Empires. Histoire des colonisations
URL:https://calenda-formation.labocleo.org/259956
DESCRIPTION:Nous nous proposons cette année d’aborder le thème des « sujets d'empires ». Nous souhaitons continuer à interroger la nature et les caractéristiques des constructions impériales\, en revenant sur les modes d’assujettissement\, sur les discriminations … @plus_info https://calenda-formation.labocleo.org/259956
LOCATION:Paris
END:VEVENT
BEGIN:VEVENT
DTSTART;VALUE=DATE:20140407
DTEND;VALUE=DATE:20140408
UID:259956-20140407@calenda.revues.org
SUMMARY:Empires. Histoire des colonisations
URL:https://calenda-formation.labocleo.org/259956
DESCRIPTION:Nous nous proposons cette année d’aborder le thème des « sujets d'empires ». Nous souhaitons continuer à interroger la nature et les caractéristiques des constructions impériales\, en revenant sur les modes d’assujettissement\, sur les discriminations … @plus_info https://calenda-formation.labocleo.org/259956
LOCATION:Paris
END:VEVENT
BEGIN:VEVENT
DTSTART;VALUE=DATE:20140505
DTEND;VALUE=DATE:20140506
UID:259956-20140505@calenda.revues.org
SUMMARY:Empires. Histoire des colonisations
URL:https://calenda-formation.labocleo.org/259956
DESCRIPTION:Nous nous proposons cette année d’aborder le thème des « sujets d'empires ». Nous souhaitons continuer à interroger la nature et les caractéristiques des constructions impériales\, en revenant sur les modes d’assujettissement\, sur les discriminations … @plus_info https://calenda-formation.labocleo.org/259956
LOCATION:Paris
END:VEVENT
BEGIN:VEVENT
DTSTART;VALUE=DATE:20140616
DTEND;VALUE=DATE:20140617
UID:259956-20140616@calenda.revues.org
SUMMARY:Empires. Histoire des colonisations
URL:https://calenda-formation.labocleo.org/259956
DESCRIPTION:Nous nous proposons cette année d’aborder le thème des « sujets d'empires ». Nous souhaitons continuer à interroger la nature et les caractéristiques des constructions impériales\, en revenant sur les modes d’assujettissement\, sur les discriminations … @plus_info https://calenda-formation.labocleo.org/259956
LOCATION:Paris
END:VEVENT
END:VCALENDAR
