BEGIN:VCALENDAR
VERSION:2.0
PRODID:-//https://calenda-formation.labocleo.org
X-WR-CALNAME:Calenda
X-WR-TIMEZONE:Europe/Paris
CALSCALE:GREGORIAN
X-WR-CALDESC:Le calendrier des lettres et sciences humaines et sociales
METHOD:PUBLISH
BEGIN:VEVENT
DTSTART;VALUE=DATE:20131002
DTEND;VALUE=DATE:20131003
UID:260006-20131002@calenda.revues.org
SUMMARY:Les clubs de football « turcs » en France et en Allemagne\, entre communauté et société
URL:https://calenda-formation.labocleo.org/260006
DESCRIPTION:Réunissant un chercheur français et un chercheur allemand travaillant sur un objet similaire\, ce séminaire bi-national ambitionne non seulement de questionner les multiples formes d'appartenance et d'engagement dans les clubs de football de la migrat… @plus_info https://calenda-formation.labocleo.org/260006
LOCATION:Strasbourg
END:VEVENT
END:VCALENDAR
