BEGIN:VCALENDAR
VERSION:2.0
PRODID:-//https://calenda-formation.labocleo.org
X-WR-CALNAME:Calenda
X-WR-TIMEZONE:Europe/Paris
CALSCALE:GREGORIAN
X-WR-CALDESC:The calendar for arts, humanities and social sciences
METHOD:PUBLISH
BEGIN:VEVENT
DTSTART;VALUE=DATE:20131002
DTEND;VALUE=DATE:20131003
UID:260006-20131002@calenda.revues.org
SUMMARY:"Turkish" football clubs in France and Germany\, between community and society
URL:https://calenda-formation.labocleo.org/260006
DESCRIPTION:Réunissant un chercheur français et un chercheur allemand travaillant sur un objet similaire\, ce séminaire bi-national ambitionne non seulement de questionner les multiples formes d'appartenance et d'engagement dans les clubs de football de la migrat… @plus_info https://calenda-formation.labocleo.org/260006
LOCATION:Strasbourg
END:VEVENT
END:VCALENDAR
