BEGIN:VCALENDAR
VERSION:2.0
PRODID:-//https://calenda-formation.labocleo.org
X-WR-CALNAME:Calenda
X-WR-TIMEZONE:Europe/Paris
CALSCALE:GREGORIAN
X-WR-CALDESC:Le calendrier des lettres et sciences humaines et sociales
METHOD:PUBLISH
BEGIN:VEVENT
DTSTART;VALUE=DATE:20131118
DTEND;VALUE=DATE:20131119
UID:260171-20131118@calenda.revues.org
SUMMARY:The revolutionary wave of the New Left in Latin America and Europe (1960-1990)
URL:https://calenda-formation.labocleo.org/260171
DESCRIPTION:The workshop seeks to open an academic dialogue about the origins\, development and decline of the wave of violence of the revolutionary New Left in Latin America and Europe. It aims to favor the adoption of transnational perspectives to explore influ… Weitere Informationen https://calenda-formation.labocleo.org/260171
LOCATION:Santiago de Compostela
END:VEVENT
BEGIN:VEVENT
DTSTART;VALUE=DATE:20131119
DTEND;VALUE=DATE:20131120
UID:260171-20131119@calenda.revues.org
SUMMARY:The revolutionary wave of the New Left in Latin America and Europe (1960-1990)
URL:https://calenda-formation.labocleo.org/260171
DESCRIPTION:The workshop seeks to open an academic dialogue about the origins\, development and decline of the wave of violence of the revolutionary New Left in Latin America and Europe. It aims to favor the adoption of transnational perspectives to explore influ… Weitere Informationen https://calenda-formation.labocleo.org/260171
LOCATION:Santiago de Compostela
END:VEVENT
END:VCALENDAR
