BEGIN:VCALENDAR
VERSION:2.0
PRODID:-//https://calenda-formation.labocleo.org
X-WR-CALNAME:Calenda
X-WR-TIMEZONE:Europe/Paris
CALSCALE:GREGORIAN
X-WR-CALDESC:Le calendrier des lettres et sciences humaines et sociales
METHOD:PUBLISH
BEGIN:VEVENT
DTSTART;VALUE=DATE:20131113
DTEND;VALUE=DATE:20131114
UID:260190-20131113@calenda.revues.org
SUMMARY:Splendor. Arts somptuaires dans le Moyen Âge hispanique
URL:https://calenda-formation.labocleo.org/260190
DESCRIPTION:Le département d’histoire de l’art I (médiéval) de l’université Complutense à Madrid organise la septième édition de son séminaire international sur l'art du Moyen Âge. Ces septièmes journées mettront l’accent sur les arts somptuaires du Moyen Âge hi… @plus_info https://calenda-formation.labocleo.org/260190
LOCATION:Madrid
END:VEVENT
BEGIN:VEVENT
DTSTART;VALUE=DATE:20131114
DTEND;VALUE=DATE:20131115
UID:260190-20131114@calenda.revues.org
SUMMARY:Splendor. Arts somptuaires dans le Moyen Âge hispanique
URL:https://calenda-formation.labocleo.org/260190
DESCRIPTION:Le département d’histoire de l’art I (médiéval) de l’université Complutense à Madrid organise la septième édition de son séminaire international sur l'art du Moyen Âge. Ces septièmes journées mettront l’accent sur les arts somptuaires du Moyen Âge hi… @plus_info https://calenda-formation.labocleo.org/260190
LOCATION:Madrid
END:VEVENT
BEGIN:VEVENT
DTSTART;VALUE=DATE:20131115
DTEND;VALUE=DATE:20131116
UID:260190-20131115@calenda.revues.org
SUMMARY:Splendor. Arts somptuaires dans le Moyen Âge hispanique
URL:https://calenda-formation.labocleo.org/260190
DESCRIPTION:Le département d’histoire de l’art I (médiéval) de l’université Complutense à Madrid organise la septième édition de son séminaire international sur l'art du Moyen Âge. Ces septièmes journées mettront l’accent sur les arts somptuaires du Moyen Âge hi… @plus_info https://calenda-formation.labocleo.org/260190
LOCATION:Madrid
END:VEVENT
END:VCALENDAR
