BEGIN:VCALENDAR
VERSION:2.0
PRODID:-//https://calenda-formation.labocleo.org
X-WR-CALNAME:Calenda
X-WR-TIMEZONE:Europe/Paris
CALSCALE:GREGORIAN
X-WR-CALDESC:The calendar for arts, humanities and social sciences
METHOD:PUBLISH
BEGIN:VEVENT
DTSTART;VALUE=DATE:20131018
DTEND;VALUE=DATE:20131019
UID:260218-20131018@calenda.revues.org
SUMMARY:Mo Yan: at the crossroads of the local and the universal
URL:https://calenda-formation.labocleo.org/260218
DESCRIPTION:L’œuvre de Mo Yan (1955-)\, prix Nobel de littérature 2012\, appelle des réflexions universitaires\, en raison de sa profonde originalité\, située à la confluence du local et de l’universel. Le royaume littéraire fondée sur son pays natal de Gaomi est po… @plus_info https://calenda-formation.labocleo.org/260218
LOCATION:Paris
END:VEVENT
BEGIN:VEVENT
DTSTART;VALUE=DATE:20131019
DTEND;VALUE=DATE:20131020
UID:260218-20131019@calenda.revues.org
SUMMARY:Mo Yan: at the crossroads of the local and the universal
URL:https://calenda-formation.labocleo.org/260218
DESCRIPTION:L’œuvre de Mo Yan (1955-)\, prix Nobel de littérature 2012\, appelle des réflexions universitaires\, en raison de sa profonde originalité\, située à la confluence du local et de l’universel. Le royaume littéraire fondée sur son pays natal de Gaomi est po… @plus_info https://calenda-formation.labocleo.org/260218
LOCATION:Paris
END:VEVENT
END:VCALENDAR
