BEGIN:VCALENDAR
VERSION:2.0
PRODID:-//https://calenda-formation.labocleo.org
X-WR-CALNAME:Calenda
X-WR-TIMEZONE:Europe/Paris
CALSCALE:GREGORIAN
X-WR-CALDESC:The calendar for arts, humanities and social sciences
METHOD:PUBLISH
BEGIN:VEVENT
DTSTART;VALUE=DATE:20131123
DTEND;VALUE=DATE:20131124
UID:260229-20131123@calenda.revues.org
SUMMARY:The atlas terriers of the Abbey of Herkenrode\, in perspective
URL:https://calenda-formation.labocleo.org/260229
DESCRIPTION:Les sources iconographiques sont de la plus haute importance dans nombre de secteurs de la recherche scientifique : histoire\, histoire de l'art\, architecture\, restauration\, géographie\, étude des paysages... En 2011\, les Archives de l’évêché de Liège … @plus_info https://calenda-formation.labocleo.org/260229
LOCATION:Liège\, Herkenrode
END:VEVENT
END:VCALENDAR
