BEGIN:VCALENDAR
VERSION:2.0
PRODID:-//https://calenda-formation.labocleo.org
X-WR-CALNAME:Calenda
X-WR-TIMEZONE:Europe/Paris
CALSCALE:GREGORIAN
X-WR-CALDESC:Le calendrier des lettres et sciences humaines et sociales
METHOD:PUBLISH
BEGIN:VEVENT
DTSTART;VALUE=DATE:20131215
DTEND;VALUE=DATE:20131216
UID:260656-20131215@calenda.revues.org
SUMMARY:Métropoles et régions\, entre concurrences et complementarités
URL:https://calenda-formation.labocleo.org/260656
DESCRIPTION:Dans un contexte marqué par la multiplication des débats et des réformes portant sur les mailles métropolitaines en Europe\, ce colloque international a pour ambition de contribuer à la réflexion contemporaine sur les rapports entre les échelles régio… Weitere Informationen https://calenda-formation.labocleo.org/260656
LOCATION:Paris
END:VEVENT
END:VCALENDAR
