BEGIN:VCALENDAR
VERSION:2.0
PRODID:-//https://calenda-formation.labocleo.org
X-WR-CALNAME:Calenda
X-WR-TIMEZONE:Europe/Paris
CALSCALE:GREGORIAN
X-WR-CALDESC:Le calendrier des lettres et sciences humaines et sociales
METHOD:PUBLISH
BEGIN:VEVENT
DTSTART;VALUE=DATE:20131129
DTEND;VALUE=DATE:20131130
UID:260670-20131129@calenda.revues.org
SUMMARY:Acculturation à l'écriture de recherche et formation à la didactique de l'écriture
URL:https://calenda-formation.labocleo.org/260670
DESCRIPTION:La journée d'étude abordera la question de l’acculturation à l’écriture de recherche et de la construction de savoirs sur l’écriture et sur sa didactique\, dans une double visée qui situe le projet dans deux champs : la didactique du français et les l… @plus_info https://calenda-formation.labocleo.org/260670
LOCATION:Orléans
END:VEVENT
END:VCALENDAR
