BEGIN:VCALENDAR
VERSION:2.0
PRODID:-//https://calenda-formation.labocleo.org
X-WR-CALNAME:Calenda
X-WR-TIMEZONE:Europe/Paris
CALSCALE:GREGORIAN
X-WR-CALDESC:Le calendrier des lettres et sciences humaines et sociales
METHOD:PUBLISH
BEGIN:VEVENT
DTSTART;VALUE=DATE:20131020
DTEND;VALUE=DATE:20131021
UID:261033-20131020@calenda.revues.org
SUMMARY:Critique d'art et médium
URL:https://calenda-formation.labocleo.org/261033
DESCRIPTION:Dans le cadre du projet « Discours critique et médium »\, coordonné par Ivanne Rialland et qui s'inscrit dans l'axe « Littérature\, arts\, médium » (LAM) mené par Bernard Vouilloux au sein de l'équipe « Littérature française XIXe-XXIe » de Paris-Sorbonn… Más informaciones https://calenda-formation.labocleo.org/261033
LOCATION:París
END:VEVENT
END:VCALENDAR
